Package: periodicDNA Version: 1.16.0 Command: /Library/Frameworks/R.framework/Resources/bin/R CMD check --install=check:periodicDNA.install-out.txt --library=/Library/Frameworks/R.framework/Resources/library --no-vignettes --timings periodicDNA_1.16.0.tar.gz StartedAt: 2025-02-05 05:15:00 -0500 (Wed, 05 Feb 2025) EndedAt: 2025-02-05 05:21:45 -0500 (Wed, 05 Feb 2025) EllapsedTime: 404.6 seconds RetCode: 0 Status: WARNINGS CheckDir: periodicDNA.Rcheck Warnings: 1