Package: periodicDNA Version: 1.16.0 Command: /Library/Frameworks/R.framework/Resources/bin/R CMD INSTALL periodicDNA StartedAt: 2025-02-03 16:09:02 -0500 (Mon, 03 Feb 2025) EndedAt: 2025-02-03 16:09:44 -0500 (Mon, 03 Feb 2025) EllapsedTime: 42.3 seconds RetCode: 0 Status: OK