Package: periodicDNA Version: 1.16.0 Command: /home/biocbuild/R/R/bin/R CMD build --keep-empty-dirs --no-resave-data periodicDNA StartedAt: 2025-02-04 01:49:17 -0000 (Tue, 04 Feb 2025) EndedAt: 2025-02-04 01:51:11 -0000 (Tue, 04 Feb 2025) EllapsedTime: 114.1 seconds RetCode: 0 Status: OK PackageFile: periodicDNA_1.16.0.tar.gz PackageFileSize: 2.895 MiB