Package: pfamAnalyzeR Version: 1.6.0 Command: /Library/Frameworks/R.framework/Resources/bin/R CMD build --keep-empty-dirs --no-resave-data pfamAnalyzeR StartedAt: 2025-02-03 21:14:48 -0500 (Mon, 03 Feb 2025) EndedAt: 2025-02-03 21:15:07 -0500 (Mon, 03 Feb 2025) EllapsedTime: 19.0 seconds RetCode: 0 Status: OK PackageFile: pfamAnalyzeR_1.6.0.tar.gz PackageFileSize: 351.8 KiB