Package: pfamAnalyzeR Version: 1.6.0 Command: /home/biocbuild/bbs-3.20-bioc/R/bin/R CMD INSTALL pfamAnalyzeR StartedAt: 2025-02-03 15:17:30 -0500 (Mon, 03 Feb 2025) EndedAt: 2025-02-03 15:17:38 -0500 (Mon, 03 Feb 2025) EllapsedTime: 7.6 seconds RetCode: 0 Status: OK