Package: pfamAnalyzeR Version: 1.6.0 Command: rm -rf pfamAnalyzeR.buildbin-libdir && mkdir pfamAnalyzeR.buildbin-libdir && F:\biocbuild\bbs-3.20-bioc\R\bin\R.exe CMD INSTALL --build --library=pfamAnalyzeR.buildbin-libdir pfamAnalyzeR_1.6.0.tar.gz StartedAt: 2025-02-04 09:09:54 -0500 (Tue, 04 Feb 2025) EndedAt: 2025-02-04 09:10:05 -0500 (Tue, 04 Feb 2025) EllapsedTime: 11.4 seconds RetCode: 0 Status: OK PackageFile: pfamAnalyzeR_1.6.0.zip PackageFileSize: 317 KiB