Package: pfamAnalyzeR Version: 1.6.0 Command: /home/biocbuild/R/R/bin/R CMD INSTALL pfamAnalyzeR StartedAt: 2025-02-03 20:26:53 -0000 (Mon, 03 Feb 2025) EndedAt: 2025-02-03 20:27:07 -0000 (Mon, 03 Feb 2025) EllapsedTime: 13.6 seconds RetCode: 0 Status: OK