Package: pgxRpi Version: 1.2.2 Command: rm -rf pgxRpi.buildbin-libdir && mkdir pgxRpi.buildbin-libdir && F:\biocbuild\bbs-3.20-bioc\R\bin\R.exe CMD INSTALL --build --library=pgxRpi.buildbin-libdir pgxRpi_1.2.2.tar.gz StartedAt: 2025-02-04 09:10:00 -0500 (Tue, 04 Feb 2025) EndedAt: 2025-02-04 09:10:20 -0500 (Tue, 04 Feb 2025) EllapsedTime: 20.2 seconds RetCode: 0 Status: OK PackageFile: pgxRpi_1.2.2.zip PackageFileSize: 1.31 MiB