Package: pgxRpi Version: 1.2.2 Command: chmod a+r pgxRpi -R && F:\biocbuild\bbs-3.20-bioc\R\bin\R.exe CMD build --keep-empty-dirs --no-resave-data pgxRpi StartedAt: 2025-02-03 21:12:13 -0500 (Mon, 03 Feb 2025) EndedAt: 2025-02-03 21:24:38 -0500 (Mon, 03 Feb 2025) EllapsedTime: 745.5 seconds RetCode: 0 Status: OK PackageFile: pgxRpi_1.2.2.tar.gz PackageFileSize: 1.211 MiB