Package: pgxRpi Version: 1.2.2 Command: F:\biocbuild\bbs-3.20-bioc\R\bin\R.exe CMD check --no-multiarch --install=check:pgxRpi.install-out.txt --library=F:\biocbuild\bbs-3.20-bioc\R\library --no-vignettes --timings pgxRpi_1.2.2.tar.gz StartedAt: 2025-02-04 04:50:56 -0500 (Tue, 04 Feb 2025) EndedAt: 2025-02-04 04:58:11 -0500 (Tue, 04 Feb 2025) EllapsedTime: 434.8 seconds RetCode: 0 Status: OK CheckDir: pgxRpi.Rcheck Warnings: 0