Package: pgxRpi Version: 1.2.2 Command: F:\biocbuild\bbs-3.20-bioc\R\bin\R.exe CMD INSTALL pgxRpi StartedAt: 2025-02-03 16:21:56 -0500 (Mon, 03 Feb 2025) EndedAt: 2025-02-03 16:22:12 -0500 (Mon, 03 Feb 2025) EllapsedTime: 15.5 seconds RetCode: 0 Status: OK