Package: pgxRpi Version: 1.2.2 Command: /home/biocbuild/R/R/bin/R CMD build --keep-empty-dirs --no-resave-data pgxRpi StartedAt: 2025-02-04 01:49:30 -0000 (Tue, 04 Feb 2025) EndedAt: 2025-02-04 01:59:06 -0000 (Tue, 04 Feb 2025) EllapsedTime: 576.6 seconds RetCode: 0 Status: OK PackageFile: pgxRpi_1.2.2.tar.gz PackageFileSize: 1.689 MiB