Package: pgxRpi Version: 1.2.2 Command: /home/biocbuild/R/R/bin/R CMD INSTALL pgxRpi StartedAt: 2025-02-03 21:21:42 -0000 (Mon, 03 Feb 2025) EndedAt: 2025-02-03 21:21:46 -0000 (Mon, 03 Feb 2025) EllapsedTime: 4.3 seconds RetCode: 0 Status: OK