Package: phantasus Version: 1.26.0 Command: /Library/Frameworks/R.framework/Resources/bin/R CMD build --keep-empty-dirs --no-resave-data phantasus StartedAt: 2025-02-10 21:17:10 -0500 (Mon, 10 Feb 2025) EndedAt: 2025-02-10 21:19:03 -0500 (Mon, 10 Feb 2025) EllapsedTime: 112.5 seconds RetCode: 0 Status: OK PackageFile: phantasus_1.26.0.tar.gz PackageFileSize: 9.551 MiB