Package: phantasus Version: 1.26.0 Command: /Library/Frameworks/R.framework/Resources/bin/R CMD INSTALL phantasus StartedAt: 2025-02-10 16:08:30 -0500 (Mon, 10 Feb 2025) EndedAt: 2025-02-10 16:09:44 -0500 (Mon, 10 Feb 2025) EllapsedTime: 73.5 seconds RetCode: 0 Status: OK