Package: phantasus Version: 1.26.0 Command: /home/biocbuild/R/R/bin/R CMD build --keep-empty-dirs --no-resave-data phantasus StartedAt: 2025-02-11 01:31:37 -0000 (Tue, 11 Feb 2025) EndedAt: 2025-02-11 01:32:28 -0000 (Tue, 11 Feb 2025) EllapsedTime: 51.0 seconds RetCode: 0 Status: OK PackageFile: phantasus_1.26.0.tar.gz PackageFileSize: 9.609 MiB