Package: phantasus Version: 1.26.0 Command: /home/biocbuild/R/R/bin/R CMD check --install=check:phantasus.install-out.txt --library=/home/biocbuild/R/R/site-library --no-vignettes --timings phantasus_1.26.0.tar.gz StartedAt: 2025-02-04 09:49:28 -0000 (Tue, 04 Feb 2025) EndedAt: 2025-02-04 09:58:05 -0000 (Tue, 04 Feb 2025) EllapsedTime: 516.8 seconds RetCode: 1 Status: ERROR CheckDir: phantasus.Rcheck Warnings: NA