Package: phantasusLite Version: 1.4.0 Command: rm -rf phantasusLite.buildbin-libdir && mkdir phantasusLite.buildbin-libdir && /Users/biocbuild/BBS/utils/build-universal.sh phantasusLite_1.4.0.tar.gz /Library/Frameworks/R.framework/Resources/bin/R phantasusLite.buildbin-libdir StartedAt: 2025-02-04 13:46:09 -0500 (Tue, 04 Feb 2025) EndedAt: 2025-02-04 13:47:19 -0500 (Tue, 04 Feb 2025) EllapsedTime: 69.4 seconds RetCode: 0 Status: OK PackageFile: phantasusLite_1.4.0.tgz PackageFileSize: 303.4 KiB