Package: phantasusLite Version: 1.4.0 Command: /Library/Frameworks/R.framework/Resources/bin/R CMD check --install=check:phantasusLite.install-out.txt --library=/Library/Frameworks/R.framework/Resources/library --no-vignettes --timings phantasusLite_1.4.0.tar.gz StartedAt: 2025-02-04 07:55:46 -0500 (Tue, 04 Feb 2025) EndedAt: 2025-02-04 08:01:36 -0500 (Tue, 04 Feb 2025) EllapsedTime: 350.7 seconds RetCode: 0 Status: OK CheckDir: phantasusLite.Rcheck Warnings: 0