Package: phantasusLite Version: 1.4.0 Command: /Library/Frameworks/R.framework/Resources/bin/R CMD INSTALL phantasusLite StartedAt: 2025-02-03 15:20:31 -0500 (Mon, 03 Feb 2025) EndedAt: 2025-02-03 15:21:11 -0500 (Mon, 03 Feb 2025) EllapsedTime: 40.3 seconds RetCode: 0 Status: OK