Package: phantasusLite Version: 1.4.0 Command: /home/biocbuild/R/R/bin/R CMD INSTALL phantasusLite StartedAt: 2025-02-03 20:29:04 -0000 (Mon, 03 Feb 2025) EndedAt: 2025-02-03 20:29:26 -0000 (Mon, 03 Feb 2025) EllapsedTime: 21.3 seconds RetCode: 0 Status: OK