Package: phenoTest Version: 1.54.0 Command: /home/biocbuild/R/R/bin/R CMD INSTALL phenoTest StartedAt: 2024-11-19 21:13:08 -0000 (Tue, 19 Nov 2024) EndedAt: 2024-11-19 21:13:56 -0000 (Tue, 19 Nov 2024) EllapsedTime: 47.5 seconds RetCode: 0 Status: OK