Package: phenoTest Version: 1.54.0 Command: /Library/Frameworks/R.framework/Resources/bin/R CMD build --keep-empty-dirs --no-resave-data phenoTest StartedAt: 2025-02-03 21:16:46 -0500 (Mon, 03 Feb 2025) EndedAt: 2025-02-03 21:18:59 -0500 (Mon, 03 Feb 2025) EllapsedTime: 132.5 seconds RetCode: 0 Status: OK PackageFile: phenoTest_1.54.0.tar.gz PackageFileSize: 1.273 MiB