Package: phenoTest Version: 1.54.0 Command: /Library/Frameworks/R.framework/Resources/bin/R CMD INSTALL phenoTest StartedAt: 2025-02-03 16:20:40 -0500 (Mon, 03 Feb 2025) EndedAt: 2025-02-03 16:21:53 -0500 (Mon, 03 Feb 2025) EllapsedTime: 73.1 seconds RetCode: 0 Status: OK