Package: phenoTest Version: 1.54.0 Command: /home/biocbuild/bbs-3.20-bioc/R/bin/R CMD check --install=check:phenoTest.install-out.txt --library=/home/biocbuild/bbs-3.20-bioc/R/site-library --timings phenoTest_1.54.0.tar.gz StartedAt: 2025-02-04 01:11:42 -0500 (Tue, 04 Feb 2025) EndedAt: 2025-02-04 01:15:13 -0500 (Tue, 04 Feb 2025) EllapsedTime: 211.2 seconds RetCode: 0 Status: OK CheckDir: phenoTest.Rcheck Warnings: 0