Package: phenoTest Version: 1.54.0 Command: /home/biocbuild/bbs-3.20-bioc/R/bin/R CMD INSTALL phenoTest StartedAt: 2025-02-03 15:51:53 -0500 (Mon, 03 Feb 2025) EndedAt: 2025-02-03 15:52:28 -0500 (Mon, 03 Feb 2025) EllapsedTime: 35.2 seconds RetCode: 0 Status: OK