Package: phenoTest Version: 1.54.0 Command: chmod a+r phenoTest -R && F:\biocbuild\bbs-3.20-bioc\R\bin\R.exe CMD build --keep-empty-dirs --no-resave-data phenoTest StartedAt: 2025-01-30 20:57:29 -0500 (Thu, 30 Jan 2025) EndedAt: 2025-01-30 20:58:39 -0500 (Thu, 30 Jan 2025) EllapsedTime: 69.7 seconds RetCode: 0 Status: OK PackageFile: phenoTest_1.54.0.tar.gz PackageFileSize: 1.099 MiB