Package: phenoTest Version: 1.54.0 Command: /home/biocbuild/bbs-3.20-bioc/R/bin/R CMD build --keep-empty-dirs --no-resave-data phenoTest StartedAt: 2024-11-19 20:50:17 -0500 (Tue, 19 Nov 2024) EndedAt: 2024-11-19 20:51:03 -0500 (Tue, 19 Nov 2024) EllapsedTime: 45.8 seconds RetCode: 0 Status: OK PackageFile: phenoTest_1.54.0.tar.gz PackageFileSize: 1.273 MiB