Package: phenomis Version: 1.8.0 Command: /home/biocbuild/R/R/bin/R CMD check --install=check:phenomis.install-out.txt --library=/home/biocbuild/R/R/site-library --no-vignettes --timings phenomis_1.8.0.tar.gz StartedAt: 2025-02-04 09:49:38 -0000 (Tue, 04 Feb 2025) EndedAt: 2025-02-04 09:56:08 -0000 (Tue, 04 Feb 2025) EllapsedTime: 389.6 seconds RetCode: 0 Status: OK CheckDir: phenomis.Rcheck Warnings: 0