Package: phenopath Version: 1.30.0 Command: /Library/Frameworks/R.framework/Resources/bin/R CMD INSTALL phenopath StartedAt: 2025-02-03 15:34:15 -0500 (Mon, 03 Feb 2025) EndedAt: 2025-02-03 15:34:32 -0500 (Mon, 03 Feb 2025) EllapsedTime: 16.4 seconds RetCode: 0 Status: OK