Package: phenopath Version: 1.30.0 Command: /Library/Frameworks/R.framework/Resources/bin/R CMD INSTALL phenopath StartedAt: 2025-02-03 15:24:37 -0500 (Mon, 03 Feb 2025) EndedAt: 2025-02-03 15:25:40 -0500 (Mon, 03 Feb 2025) EllapsedTime: 63.0 seconds RetCode: 0 Status: OK