Package: phenopath Version: 1.30.0 Command: /home/biocbuild/bbs-3.20-bioc/R/bin/R CMD build --keep-empty-dirs --no-resave-data --md5 phenopath StartedAt: 2025-02-03 18:43:35 -0500 (Mon, 03 Feb 2025) EndedAt: 2025-02-03 18:44:22 -0500 (Mon, 03 Feb 2025) EllapsedTime: 47.1 seconds RetCode: 0 Status: OK PackageFile: phenopath_1.30.0.tar.gz PackageFileSize: 1.335 MiB