Package: phenopath
Version: 1.30.0
Command: /home/biocbuild/bbs-3.20-bioc/R/bin/R CMD check --install=check:phenopath.install-out.txt --library=/home/biocbuild/bbs-3.20-bioc/R/site-library --timings phenopath_1.30.0.tar.gz
StartedAt: 2025-02-18 00:53:40 -0500 (Tue, 18 Feb 2025)
EndedAt: 2025-02-18 00:56:32 -0500 (Tue, 18 Feb 2025)
EllapsedTime: 172.2 seconds
RetCode: 0
Status: OK
CheckDir: phenopath.Rcheck
Warnings: 0