Package: phenopath Version: 1.30.0 Command: rm -rf phenopath.buildbin-libdir && mkdir phenopath.buildbin-libdir && F:\biocbuild\bbs-3.20-bioc\R\bin\R.exe CMD INSTALL --build --library=phenopath.buildbin-libdir phenopath_1.30.0.tar.gz StartedAt: 2025-02-04 09:10:12 -0500 (Tue, 04 Feb 2025) EndedAt: 2025-02-04 09:11:25 -0500 (Tue, 04 Feb 2025) EllapsedTime: 72.8 seconds RetCode: 0 Status: OK PackageFile: phenopath_1.30.0.zip PackageFileSize: 1.125 MiB