Package: phenopath
Version: 1.30.0
Command: /home/biocbuild/bbs-3.20-bioc/R/bin/R CMD build --keep-empty-dirs --no-resave-data phenopath
StartedAt: 2024-11-19 20:50:15 -0500 (Tue, 19 Nov 2024)
EndedAt: 2024-11-19 20:51:01 -0500 (Tue, 19 Nov 2024)
EllapsedTime: 45.8 seconds
RetCode: 0
Status: OK
PackageFile: phenopath_1.30.0.tar.gz
PackageFileSize: 1.334 <A href="http://en.wikipedia.org/wiki/MiB" target="_blank">MiB</A>