Package: philr Version: 1.32.0 Command: /Library/Frameworks/R.framework/Resources/bin/R CMD INSTALL philr StartedAt: 2025-02-03 16:15:55 -0500 (Mon, 03 Feb 2025) EndedAt: 2025-02-03 16:16:05 -0500 (Mon, 03 Feb 2025) EllapsedTime: 10.3 seconds RetCode: 0 Status: OK