Package: philr
Version: 1.32.0
Command: rm -rf philr.buildbin-libdir && mkdir philr.buildbin-libdir && /Users/biocbuild/BBS/utils/build-universal.sh philr_1.32.0.tar.gz /Library/Frameworks/R.framework/Resources/bin/R philr.buildbin-libdir
StartedAt: 2024-11-20 04:42:31 -0500 (Wed, 20 Nov 2024)
EndedAt: 2024-11-20 04:42:47 -0500 (Wed, 20 Nov 2024)
EllapsedTime: 16.7 seconds
RetCode: 0
Status: OK
PackageFile: philr_1.32.0.tgz
PackageFileSize: 575.2 <A href="http://en.wikipedia.org/wiki/KiB" target="_blank">KiB</A>