Package: philr Version: 1.32.0 Command: /Library/Frameworks/R.framework/Resources/bin/R CMD check --install=check:philr.install-out.txt --library=/Library/Frameworks/R.framework/Resources/library --no-vignettes --timings philr_1.32.0.tar.gz StartedAt: 2025-02-18 07:24:49 -0500 (Tue, 18 Feb 2025) EndedAt: 2025-02-18 07:28:07 -0500 (Tue, 18 Feb 2025) EllapsedTime: 198.1 seconds RetCode: 0 Status: OK CheckDir: philr.Rcheck Warnings: 0