Package: philr
Version: 1.32.0
Command: /Library/Frameworks/R.framework/Resources/bin/R CMD INSTALL philr
StartedAt: 2025-02-17 15:43:36 -0500 (Mon, 17 Feb 2025)
EndedAt: 2025-02-17 15:43:55 -0500 (Mon, 17 Feb 2025)
EllapsedTime: 19.1 seconds
RetCode: 0
Status: OK