Package: philr Version: 1.32.0 Command: /home/biocbuild/bbs-3.20-bioc/R/bin/R CMD build --keep-empty-dirs --no-resave-data --md5 philr StartedAt: 2025-02-03 18:44:03 -0500 (Mon, 03 Feb 2025) EndedAt: 2025-02-03 18:44:38 -0500 (Mon, 03 Feb 2025) EllapsedTime: 35.1 seconds RetCode: 0 Status: OK PackageFile: philr_1.32.0.tar.gz PackageFileSize: 532 KiB