Package: phosphonormalizer Version: 1.30.0 Command: /Library/Frameworks/R.framework/Resources/bin/R CMD check --install=check:phosphonormalizer.install-out.txt --library=/Library/Frameworks/R.framework/Resources/library --no-vignettes --timings phosphonormalizer_1.30.0.tar.gz StartedAt: 2025-02-01 04:42:41 -0500 (Sat, 01 Feb 2025) EndedAt: 2025-02-01 04:43:27 -0500 (Sat, 01 Feb 2025) EllapsedTime: 46.2 seconds RetCode: 0 Status: OK CheckDir: phosphonormalizer.Rcheck Warnings: 0