Package: phosphonormalizer Version: 1.30.0 Command: /Library/Frameworks/R.framework/Resources/bin/R CMD INSTALL phosphonormalizer StartedAt: 2025-01-30 15:10:59 -0500 (Thu, 30 Jan 2025) EndedAt: 2025-01-30 15:11:02 -0500 (Thu, 30 Jan 2025) EllapsedTime: 3.2 seconds RetCode: 0 Status: OK