Package: phosphonormalizer Version: 1.30.0 Command: /home/biocbuild/bbs-3.20-bioc/R/bin/R CMD build --keep-empty-dirs --no-resave-data --md5 phosphonormalizer StartedAt: 2025-01-30 18:34:36 -0500 (Thu, 30 Jan 2025) EndedAt: 2025-01-30 18:34:44 -0500 (Thu, 30 Jan 2025) EllapsedTime: 8.0 seconds RetCode: 0 Status: OK PackageFile: phosphonormalizer_1.30.0.tar.gz PackageFileSize: 2.696 MiB