Package: phosphonormalizer Version: 1.30.0 Command: /home/biocbuild/bbs-3.20-bioc/R/bin/R CMD check --install=check:phosphonormalizer.install-out.txt --library=/home/biocbuild/bbs-3.20-bioc/R/site-library --timings phosphonormalizer_1.30.0.tar.gz StartedAt: 2025-02-04 01:12:11 -0500 (Tue, 04 Feb 2025) EndedAt: 2025-02-04 01:12:49 -0500 (Tue, 04 Feb 2025) EllapsedTime: 38.0 seconds RetCode: 0 Status: OK CheckDir: phosphonormalizer.Rcheck Warnings: 0