Package: phosphonormalizer Version: 1.30.0 Command: rm -rf phosphonormalizer.buildbin-libdir && mkdir phosphonormalizer.buildbin-libdir && F:\biocbuild\bbs-3.20-bioc\R\bin\R.exe CMD INSTALL --build --library=phosphonormalizer.buildbin-libdir phosphonormalizer_1.30.0.tar.gz StartedAt: 2025-01-31 09:16:43 -0500 (Fri, 31 Jan 2025) EndedAt: 2025-01-31 09:17:19 -0500 (Fri, 31 Jan 2025) EllapsedTime: 35.5 seconds RetCode: 0 Status: OK PackageFile: phosphonormalizer_1.30.0.zip PackageFileSize: 2.599 MiB