Package: phosphonormalizer Version: 1.30.0 Command: /home/biocbuild/R/R/bin/R CMD check --install=check:phosphonormalizer.install-out.txt --library=/home/biocbuild/R/R/site-library --no-vignettes --timings phosphonormalizer_1.30.0.tar.gz StartedAt: 2025-01-31 09:07:58 -0000 (Fri, 31 Jan 2025) EndedAt: 2025-01-31 09:08:37 -0000 (Fri, 31 Jan 2025) EllapsedTime: 39.0 seconds RetCode: 0 Status: OK CheckDir: phosphonormalizer.Rcheck Warnings: 0