Package: phosphonormalizer Version: 1.30.0 Command: /home/biocbuild/R/R/bin/R CMD INSTALL phosphonormalizer StartedAt: 2025-02-03 20:24:22 -0000 (Mon, 03 Feb 2025) EndedAt: 2025-02-03 20:24:32 -0000 (Mon, 03 Feb 2025) EllapsedTime: 9.8 seconds RetCode: 0 Status: OK