Package: phyloseq Version: 1.50.0 Command: rm -rf phyloseq.buildbin-libdir && mkdir phyloseq.buildbin-libdir && /Users/biocbuild/BBS/utils/build-universal.sh phyloseq_1.50.0.tar.gz /Library/Frameworks/R.framework/Resources/bin/R phyloseq.buildbin-libdir StartedAt: 2025-02-04 13:47:00 -0500 (Tue, 04 Feb 2025) EndedAt: 2025-02-04 13:48:57 -0500 (Tue, 04 Feb 2025) EllapsedTime: 116.9 seconds RetCode: 0 Status: OK PackageFile: phyloseq_1.50.0.tgz PackageFileSize: 6.33 MiB