Package: phyloseq Version: 1.50.0 Command: /Library/Frameworks/R.framework/Resources/bin/R CMD build --keep-empty-dirs --no-resave-data phyloseq StartedAt: 2025-02-03 21:17:30 -0500 (Mon, 03 Feb 2025) EndedAt: 2025-02-03 21:21:19 -0500 (Mon, 03 Feb 2025) EllapsedTime: 229.8 seconds RetCode: 0 Status: OK PackageFile: phyloseq_1.50.0.tar.gz PackageFileSize: 6.009 MiB