Package: phyloseq Version: 1.50.0 Command: /Library/Frameworks/R.framework/Resources/bin/R CMD INSTALL phyloseq StartedAt: 2025-02-03 16:26:30 -0500 (Mon, 03 Feb 2025) EndedAt: 2025-02-03 16:27:29 -0500 (Mon, 03 Feb 2025) EllapsedTime: 59.5 seconds RetCode: 0 Status: OK